BEGIN:VCALENDAR
VERSION:2.0
PRODID:-//pretix//VR_Ticket//
BEGIN:VTIMEZONE
TZID:Europe/Berlin
BEGIN:STANDARD
DTSTART:20001029T040000
RRULE:FREQ=YEARLY;BYDAY=-1SU;BYMONTH=10
TZNAME:CET
TZOFFSETFROM:+0200
TZOFFSETTO:+0100
END:STANDARD
BEGIN:DAYLIGHT
DTSTART:20000326T030000
RRULE:FREQ=YEARLY;BYDAY=-1SU;BYMONTH=3
TZNAME:CEST
TZOFFSETFROM:+0100
TZOFFSETTO:+0200
END:DAYLIGHT
END:VTIMEZONE
BEGIN:VEVENT
UID:pretix-vvbankeg-stromversorgung-0@veranstaltungen.vereinigtevolksbankeg
 .de
DTSTART;TZID=Europe/Berlin:20230914T190000
DTEND;TZID=Europe/Berlin:20230914T194500
DESCRIPTION:Tickets: https://veranstaltungen.vereinigtevolksbankeg.de/strom
 versorgung/\nVeranstalter: Vereinigte Volksbank eG
DTSTAMP:20260421T112223Z
SUMMARY:Unabhängig werden mit der eigenen Stromversorgung
END:VEVENT
END:VCALENDAR
